BEGIN:VCALENDAR
VERSION:2.0
PRODID:-//Fireworks.org - The World&#039;s Fireworks Community - ECPv6.15.20//NONSGML v1.0//EN
CALSCALE:GREGORIAN
METHOD:PUBLISH
X-ORIGINAL-URL:https://fireworks.org
X-WR-CALDESC:Events for Fireworks.org - The World&#039;s Fireworks Community
REFRESH-INTERVAL;VALUE=DURATION:PT1H
X-Robots-Tag:noindex
X-PUBLISHED-TTL:PT1H
BEGIN:VTIMEZONE
TZID:Asia/Shanghai
BEGIN:STANDARD
TZOFFSETFROM:+0800
TZOFFSETTO:+0800
TZNAME:CST
DTSTART:20240101T000000
END:STANDARD
END:VTIMEZONE
BEGIN:VEVENT
DTSTART;TZID=Asia/Shanghai:20250802T200000
DTEND;TZID=Asia/Shanghai:20250802T210000
DTSTAMP:20260421T161648
CREATED:20250803T195753Z
LAST-MODIFIED:20250803T202625Z
UID:4414-1754164800-1754168400@fireworks.org
SUMMARY:Summer Dream Fireworks Weekend Show
DESCRIPTION:
URL:https://fireworks.org/event/summer-dream-fireworks-weekend-show/
LOCATION:Sky Theater – Liuyang. China\, No.1 Jincheng Avenue\, Liuyang\, Hunan\, 410300\, China
CATEGORIES:Fireworks
ATTACH;FMTTYPE=image/jpeg:https://fireworks.org/wp-content/uploads/2025/08/2024103010.jpg
ORGANIZER;CN="Liuyang Sky Theater":MAILTO:info@fireworks.org
END:VEVENT
END:VCALENDAR