BEGIN:VCALENDAR
VERSION:2.0
PRODID:-//Fireworks.org - The World&#039;s Fireworks Community - ECPv6.15.20//NONSGML v1.0//EN
CALSCALE:GREGORIAN
METHOD:PUBLISH
X-WR-CALNAME:Fireworks.org - The World&#039;s Fireworks Community
X-ORIGINAL-URL:https://fireworks.org
X-WR-CALDESC:Events for Fireworks.org - The World&#039;s Fireworks Community
REFRESH-INTERVAL;VALUE=DURATION:PT1H
X-Robots-Tag:noindex
X-PUBLISHED-TTL:PT1H
BEGIN:VTIMEZONE
TZID:Asia/Shanghai
BEGIN:STANDARD
TZOFFSETFROM:+0800
TZOFFSETTO:+0800
TZNAME:CST
DTSTART:20250101T000000
END:STANDARD
END:VTIMEZONE
BEGIN:VEVENT
DTSTART;TZID=Asia/Shanghai:20260314T200000
DTEND;TZID=Asia/Shanghai:20260314T220000
DTSTAMP:20260421T173233
CREATED:20260303T231556Z
LAST-MODIFIED:20260303T231556Z
UID:5150-1773518400-1773525600@fireworks.org
SUMMARY:Liuyang Weekend Fireworks Show
DESCRIPTION:
URL:https://fireworks.org/event/liuyang-weekend-fireworks-show-2/
LOCATION:Sky Theater – Liuyang. China\, No.1 Jincheng Avenue\, Liuyang\, Hunan\, 410300\, China
CATEGORIES:Fireworks
ORGANIZER;CN="Liuyang Sky Theater":MAILTO:info@fireworks.org
END:VEVENT
BEGIN:VEVENT
DTSTART;TZID=Asia/Shanghai:20260321T200000
DTEND;TZID=Asia/Shanghai:20260321T220000
DTSTAMP:20260421T173233
CREATED:20260303T231702Z
LAST-MODIFIED:20260303T231702Z
UID:5152-1774123200-1774130400@fireworks.org
SUMMARY:Liuyang Weekend Fireworks Show
DESCRIPTION:
URL:https://fireworks.org/event/liuyang-weekend-fireworks-show-3/
LOCATION:Sky Theater – Liuyang. China\, No.1 Jincheng Avenue\, Liuyang\, Hunan\, 410300\, China
CATEGORIES:Fireworks
ORGANIZER;CN="Liuyang Sky Theater":MAILTO:info@fireworks.org
END:VEVENT
BEGIN:VEVENT
DTSTART;TZID=Asia/Shanghai:20260328T200000
DTEND;TZID=Asia/Shanghai:20260328T220000
DTSTAMP:20260421T173233
CREATED:20260303T231747Z
LAST-MODIFIED:20260303T231747Z
UID:5154-1774728000-1774735200@fireworks.org
SUMMARY:Liuyang Weekend Fireworks Show
DESCRIPTION:
URL:https://fireworks.org/event/liuyang-weekend-fireworks-show-4/
LOCATION:Sky Theater – Liuyang. China\, No.1 Jincheng Avenue\, Liuyang\, Hunan\, 410300\, China
CATEGORIES:Fireworks
ORGANIZER;CN="Liuyang Sky Theater":MAILTO:info@fireworks.org
END:VEVENT
BEGIN:VEVENT
DTSTART;TZID=Asia/Shanghai:20260501T200000
DTEND;TZID=Asia/Shanghai:20260501T230000
DTSTAMP:20260421T173233
CREATED:20260303T232207Z
LAST-MODIFIED:20260303T232207Z
UID:5156-1777665600-1777676400@fireworks.org
SUMMARY:Liuyang Fireworks Show & Commercial Performance
DESCRIPTION:
URL:https://fireworks.org/event/liuyang-fireworks-show-commercial-performance/
LOCATION:Sky Theater – Liuyang. China\, No.1 Jincheng Avenue\, Liuyang\, Hunan\, 410300\, China
CATEGORIES:Fireworks
ORGANIZER;CN="Liuyang Sky Theater":MAILTO:info@fireworks.org
END:VEVENT
BEGIN:VEVENT
DTSTART;TZID=Asia/Shanghai:20260808T200000
DTEND;TZID=Asia/Shanghai:20260808T220000
DTSTAMP:20260421T173233
CREATED:20260303T235952Z
LAST-MODIFIED:20260303T235952Z
UID:5162-1786219200-1786226400@fireworks.org
SUMMARY:Liuyang Fireworks Show
DESCRIPTION:
URL:https://fireworks.org/event/liuyang-fireworks-show/
LOCATION:Sky Theater – Liuyang. China\, No.1 Jincheng Avenue\, Liuyang\, Hunan\, 410300\, China
CATEGORIES:Fireworks
ORGANIZER;CN="Liuyang Sky Theater":MAILTO:info@fireworks.org
END:VEVENT
BEGIN:VEVENT
DTSTART;TZID=Asia/Shanghai:20260819T200000
DTEND;TZID=Asia/Shanghai:20260819T200000
DTSTAMP:20260421T173233
CREATED:20260304T000133Z
LAST-MODIFIED:20260304T001734Z
UID:5164-1787169600-1787169600@fireworks.org
SUMMARY:Liuyang Fireworks Show & Performance - Chinese Valentine's Day
DESCRIPTION:
URL:https://fireworks.org/event/liuyang-fireworks-show-performance-chinese-valentines-day/
LOCATION:Sky Theater – Liuyang. China\, No.1 Jincheng Avenue\, Liuyang\, Hunan\, 410300\, China
CATEGORIES:Fireworks
ORGANIZER;CN="Liuyang Sky Theater":MAILTO:info@fireworks.org
END:VEVENT
END:VCALENDAR